BEGIN:VCALENDAR
VERSION:2.0
PRODID:-//UB-Event
TZID:Europe/Zurich
X-WR-TIMEZONE:Europe/Zurich
CALSCALE:GREGORIAN
BEGIN:VEVENT
SUMMARY:Rote Hilfe Sprechstunde
UID:357548
DTSTART;TZID=Europe/Zurich;VALUE=DATE-TIME:20260521T203000
DTEND;TZID=Europe/Zurich;VALUE=DATE-TIME:20260521T223000
LAST-MODIFIED;TZID=Europe/Zurich;VALUE=DATE-TIME:20251017T132236
DTSTAMP;VALUE=DATE-TIME:20260521T203000Z
LOCATION:Büro für GRENZENLOSe Solidarität, Adlerstr. 12, 79098 Freiburg im Breisgau
URL://www.xn--untergrund-blttle-2qb.ch/events/357548/rote-hilfe-sprechstunde-buero-fuer-grenzenlose-solidaritaet-freiburg-im-breisgau.html
END:VEVENT
BEGIN:VTIMEZONE
TZID:Europe/Zurich
X-LIC-LOCATION:Europe/Zurich
BEGIN:STANDARD
DTSTART;VALUE=DATE-TIME:20260521T203000
TZNAME:CET
TZOFFSETFROM:+0200
TZOFFSETTO:+0100
END:STANDARD
BEGIN:DAYLIGHT
DTSTART;VALUE=DATE-TIME:20260521T203000
TZNAME:CEST
TZOFFSETFROM:+0100
TZOFFSETTO:+0200
END:DAYLIGHT
BEGIN:STANDARD
DTSTART;VALUE=DATE-TIME:20260521T203000
TZNAME:CET
TZOFFSETFROM:+0200
TZOFFSETTO:+0100
END:STANDARD
END:VTIMEZONE
END:VCALENDAR