BEGIN:VCALENDAR
VERSION:2.0
PRODID:-//UB-Event
TZID:Europe/Zurich
X-WR-TIMEZONE:Europe/Zurich
CALSCALE:GREGORIAN
BEGIN:VEVENT
SUMMARY:Duo Pierrolo – Virtuoso World Folk Jazz
UID:357375
DTSTART;TZID=Europe/Zurich;VALUE=DATE-TIME:20260925T193000
DTEND;TZID=Europe/Zurich;VALUE=DATE-TIME:20260925T213000
LAST-MODIFIED;TZID=Europe/Zurich;VALUE=DATE-TIME:20251016T094241
DTSTAMP;VALUE=DATE-TIME:20260925T193000Z
LOCATION:nachbar Kneipe & Kultur, Am Römerkastell 73, 70376 Stuttgart
URL://www.xn--untergrund-blttle-2qb.ch/events/357375/duo-pierrolo-virtuoso-world-folk-jazz-nachbar-kneipe-kultur-stuttgart.html
END:VEVENT
BEGIN:VTIMEZONE
TZID:Europe/Zurich
X-LIC-LOCATION:Europe/Zurich
BEGIN:STANDARD
DTSTART;VALUE=DATE-TIME:20260925T193000
TZNAME:CET
TZOFFSETFROM:+0200
TZOFFSETTO:+0100
END:STANDARD
BEGIN:DAYLIGHT
DTSTART;VALUE=DATE-TIME:20260925T193000
TZNAME:CEST
TZOFFSETFROM:+0100
TZOFFSETTO:+0200
END:DAYLIGHT
BEGIN:STANDARD
DTSTART;VALUE=DATE-TIME:20260925T193000
TZNAME:CET
TZOFFSETFROM:+0200
TZOFFSETTO:+0100
END:STANDARD
END:VTIMEZONE
END:VCALENDAR