BEGIN:VCALENDAR
VERSION:2.0
PRODID:-//UB-Event
TZID:Europe/Zurich
X-WR-TIMEZONE:Europe/Zurich
CALSCALE:GREGORIAN
BEGIN:VEVENT
SUMMARY:ROSA - Rolling Safespace Offenes Plenum
UID:357094
DTSTART;TZID=Europe/Zurich;VALUE=DATE-TIME:20260423T183000
DTEND;TZID=Europe/Zurich;VALUE=DATE-TIME:20260423T203000
LAST-MODIFIED;TZID=Europe/Zurich;VALUE=DATE-TIME:20251012T072114
DTSTAMP;VALUE=DATE-TIME:20260423T183000Z
LOCATION:Luftschloss, Arne-Torgersen-Straße 24, 79115 Freiburg im Breisgau
URL://www.xn--untergrund-blttle-2qb.ch/events/357094/rosa-rolling-safespace-offenes-plenum-luftschloss-freiburg-im-breisgau.html
END:VEVENT
BEGIN:VTIMEZONE
TZID:Europe/Zurich
X-LIC-LOCATION:Europe/Zurich
BEGIN:STANDARD
DTSTART;VALUE=DATE-TIME:20260423T183000
TZNAME:CET
TZOFFSETFROM:+0200
TZOFFSETTO:+0100
END:STANDARD
BEGIN:DAYLIGHT
DTSTART;VALUE=DATE-TIME:20260423T183000
TZNAME:CEST
TZOFFSETFROM:+0100
TZOFFSETTO:+0200
END:DAYLIGHT
BEGIN:STANDARD
DTSTART;VALUE=DATE-TIME:20260423T183000
TZNAME:CET
TZOFFSETFROM:+0200
TZOFFSETTO:+0100
END:STANDARD
END:VTIMEZONE
END:VCALENDAR