BEGIN:VCALENDAR
VERSION:2.0
PRODID:-//UB-Event
TZID:Europe/Zurich
X-WR-TIMEZONE:Europe/Zurich
CALSCALE:GREGORIAN
BEGIN:VEVENT
SUMMARY:Offenes Plenum der Bretterbude
UID:356791
DTSTART;TZID=Europe/Zurich;VALUE=DATE-TIME:20260506T180000
DTEND;TZID=Europe/Zurich;VALUE=DATE-TIME:20260506T200000
LAST-MODIFIED;TZID=Europe/Zurich;VALUE=DATE-TIME:20251009T072110
DTSTAMP;VALUE=DATE-TIME:20260506T180000Z
LOCATION:B5, Böcklerstraße 5, 79110 Freiburg im Breisgau
URL://www.xn--untergrund-blttle-2qb.ch/events/356791/offenes-plenum-der-bretterbude-b5-freiburg-im-breisgau.html
END:VEVENT
BEGIN:VTIMEZONE
TZID:Europe/Zurich
X-LIC-LOCATION:Europe/Zurich
BEGIN:STANDARD
DTSTART;VALUE=DATE-TIME:20260506T180000
TZNAME:CET
TZOFFSETFROM:+0200
TZOFFSETTO:+0100
END:STANDARD
BEGIN:DAYLIGHT
DTSTART;VALUE=DATE-TIME:20260506T180000
TZNAME:CEST
TZOFFSETFROM:+0100
TZOFFSETTO:+0200
END:DAYLIGHT
BEGIN:STANDARD
DTSTART;VALUE=DATE-TIME:20260506T180000
TZNAME:CET
TZOFFSETFROM:+0200
TZOFFSETTO:+0100
END:STANDARD
END:VTIMEZONE
END:VCALENDAR