BEGIN:VCALENDAR
VERSION:2.0
PRODID:-//UB-Event
TZID:Europe/Zurich
X-WR-TIMEZONE:Europe/Zurich
CALSCALE:GREGORIAN
BEGIN:VEVENT
SUMMARY:Queer Teens
UID:356790
DTSTART;TZID=Europe/Zurich;VALUE=DATE-TIME:20260506T173000
DTEND;TZID=Europe/Zurich;VALUE=DATE-TIME:20260506T193000
LAST-MODIFIED;TZID=Europe/Zurich;VALUE=DATE-TIME:20251009T072110
DTSTAMP;VALUE=DATE-TIME:20260506T173000Z
LOCATION:Feministisches Zentrum, Grethergelände 20, 79098 Freiburg im Breisgau
URL://www.xn--untergrund-blttle-2qb.ch/events/356790/queer-teens-feministisches-zentrum-freiburg-im-breisgau.html
END:VEVENT
BEGIN:VTIMEZONE
TZID:Europe/Zurich
X-LIC-LOCATION:Europe/Zurich
BEGIN:STANDARD
DTSTART;VALUE=DATE-TIME:20260506T173000
TZNAME:CET
TZOFFSETFROM:+0200
TZOFFSETTO:+0100
END:STANDARD
BEGIN:DAYLIGHT
DTSTART;VALUE=DATE-TIME:20260506T173000
TZNAME:CEST
TZOFFSETFROM:+0100
TZOFFSETTO:+0200
END:DAYLIGHT
BEGIN:STANDARD
DTSTART;VALUE=DATE-TIME:20260506T173000
TZNAME:CET
TZOFFSETFROM:+0200
TZOFFSETTO:+0100
END:STANDARD
END:VTIMEZONE
END:VCALENDAR