BEGIN:VCALENDAR
VERSION:2.0
PRODID:-//UB-Event
TZID:Europe/Zurich
X-WR-TIMEZONE:Europe/Zurich
CALSCALE:GREGORIAN
BEGIN:VEVENT
SUMMARY:Ataya: Gesellschaftspolitische Gespräche und Exkursionen
UID:356162
DTSTART;TZID=Europe/Zurich;VALUE=DATE-TIME:20260502T140000
DTEND;TZID=Europe/Zurich;VALUE=DATE-TIME:20260502T160000
LAST-MODIFIED;TZID=Europe/Zurich;VALUE=DATE-TIME:20250928T072053
DTSTAMP;VALUE=DATE-TIME:20260502T140000Z
LOCATION:Projektraum schwere(s)los, Kleineschholzweg 5, 79106 Freiburg im Breisgau
URL://www.xn--untergrund-blttle-2qb.ch/events/356162/ataya-gesellschaftspolitische-gespraeche-und-exkursionen-projektraum-schwereslos-freiburg-im-breisgau.html
END:VEVENT
BEGIN:VTIMEZONE
TZID:Europe/Zurich
X-LIC-LOCATION:Europe/Zurich
BEGIN:STANDARD
DTSTART;VALUE=DATE-TIME:20260502T140000
TZNAME:CET
TZOFFSETFROM:+0200
TZOFFSETTO:+0100
END:STANDARD
BEGIN:DAYLIGHT
DTSTART;VALUE=DATE-TIME:20260502T140000
TZNAME:CEST
TZOFFSETFROM:+0100
TZOFFSETTO:+0200
END:DAYLIGHT
BEGIN:STANDARD
DTSTART;VALUE=DATE-TIME:20260502T140000
TZNAME:CET
TZOFFSETFROM:+0200
TZOFFSETTO:+0100
END:STANDARD
END:VTIMEZONE
END:VCALENDAR