BEGIN:VCALENDAR
VERSION:2.0
PRODID:-//UB-Event
TZID:Europe/Zurich
X-WR-TIMEZONE:Europe/Zurich
CALSCALE:GREGORIAN
BEGIN:VEVENT
SUMMARY:Students For Future
UID:356076
DTSTART;TZID=Europe/Zurich;VALUE=DATE-TIME:20260429T200000
DTEND;TZID=Europe/Zurich;VALUE=DATE-TIME:20260429T220000
LAST-MODIFIED;TZID=Europe/Zurich;VALUE=DATE-TIME:20250925T072216
DTSTAMP;VALUE=DATE-TIME:20260429T200000Z
LOCATION:Haus der Jugend, Jugendbildungswerk, Uhlandstraße 2, 79102 Freiburg im Breisgau
URL://www.xn--untergrund-blttle-2qb.ch/events/356076/students-for-future-haus-der-jugend-jugendbildungswerk-freiburg-im-breisgau.html
END:VEVENT
BEGIN:VTIMEZONE
TZID:Europe/Zurich
X-LIC-LOCATION:Europe/Zurich
BEGIN:STANDARD
DTSTART;VALUE=DATE-TIME:20260429T200000
TZNAME:CET
TZOFFSETFROM:+0200
TZOFFSETTO:+0100
END:STANDARD
BEGIN:DAYLIGHT
DTSTART;VALUE=DATE-TIME:20260429T200000
TZNAME:CEST
TZOFFSETFROM:+0100
TZOFFSETTO:+0200
END:DAYLIGHT
BEGIN:STANDARD
DTSTART;VALUE=DATE-TIME:20260429T200000
TZNAME:CET
TZOFFSETFROM:+0200
TZOFFSETTO:+0100
END:STANDARD
END:VTIMEZONE
END:VCALENDAR