BEGIN:VCALENDAR
VERSION:2.0
PRODID:-//UB-Event
TZID:Europe/Zurich
X-WR-TIMEZONE:Europe/Zurich
CALSCALE:GREGORIAN
BEGIN:VEVENT
SUMMARY:rauchfreier Abend und KüfA im kyosk
UID:356043
DTSTART;TZID=Europe/Zurich;VALUE=DATE-TIME:20260428T170000
DTEND;TZID=Europe/Zurich;VALUE=DATE-TIME:20260428T190000
LAST-MODIFIED;TZID=Europe/Zurich;VALUE=DATE-TIME:20250924T102051
DTSTAMP;VALUE=DATE-TIME:20260428T170000Z
LOCATION:kyosk, Adlerstraße 2, 79098 Freiburg im Breisgau
URL://www.xn--untergrund-blttle-2qb.ch/events/356043/rauchfreier-abend-und-kuefa-im-kyosk-kyosk-freiburg-im-breisgau.html
END:VEVENT
BEGIN:VTIMEZONE
TZID:Europe/Zurich
X-LIC-LOCATION:Europe/Zurich
BEGIN:STANDARD
DTSTART;VALUE=DATE-TIME:20260428T170000
TZNAME:CET
TZOFFSETFROM:+0200
TZOFFSETTO:+0100
END:STANDARD
BEGIN:DAYLIGHT
DTSTART;VALUE=DATE-TIME:20260428T170000
TZNAME:CEST
TZOFFSETFROM:+0100
TZOFFSETTO:+0200
END:DAYLIGHT
BEGIN:STANDARD
DTSTART;VALUE=DATE-TIME:20260428T170000
TZNAME:CET
TZOFFSETFROM:+0200
TZOFFSETTO:+0100
END:STANDARD
END:VTIMEZONE
END:VCALENDAR