BEGIN:VCALENDAR
VERSION:2.0
PRODID:-//UB-Event
TZID:Europe/Zurich
X-WR-TIMEZONE:Europe/Zurich
CALSCALE:GREGORIAN
BEGIN:VEVENT
SUMMARY:Monatliche Küfa in Kollmarsreute
UID:355700
DTSTART;TZID=Europe/Zurich;VALUE=DATE-TIME:20260426T180000
DTEND;TZID=Europe/Zurich;VALUE=DATE-TIME:20260426T200000
LAST-MODIFIED;TZID=Europe/Zurich;VALUE=DATE-TIME:20250922T072034
DTSTAMP;VALUE=DATE-TIME:20260426T180000Z
LOCATION:umsonstladen Kollmarsreute, Grundackerstraße 3a, 79312 Kollmarsreute
URL://www.xn--untergrund-blttle-2qb.ch/events/355700/monatliche-kuefa-in-kollmarsreute-umsonstladen-kollmarsreute-kollmarsreute.html
END:VEVENT
BEGIN:VTIMEZONE
TZID:Europe/Zurich
X-LIC-LOCATION:Europe/Zurich
BEGIN:STANDARD
DTSTART;VALUE=DATE-TIME:20260426T180000
TZNAME:CET
TZOFFSETFROM:+0200
TZOFFSETTO:+0100
END:STANDARD
BEGIN:DAYLIGHT
DTSTART;VALUE=DATE-TIME:20260426T180000
TZNAME:CEST
TZOFFSETFROM:+0100
TZOFFSETTO:+0200
END:DAYLIGHT
BEGIN:STANDARD
DTSTART;VALUE=DATE-TIME:20260426T180000
TZNAME:CET
TZOFFSETFROM:+0200
TZOFFSETTO:+0100
END:STANDARD
END:VTIMEZONE
END:VCALENDAR