BEGIN:VCALENDAR
VERSION:2.0
PRODID:-//UB-Event
TZID:Europe/Zurich
X-WR-TIMEZONE:Europe/Zurich
CALSCALE:GREGORIAN
BEGIN:VEVENT
SUMMARY:Bezahlkarte – Mach mit beim solidarischen Gutscheintausch!
UID:355642
DTSTART;TZID=Europe/Zurich;VALUE=DATE-TIME:20260424T160000
DTEND;TZID=Europe/Zurich;VALUE=DATE-TIME:20260424T180000
LAST-MODIFIED;TZID=Europe/Zurich;VALUE=DATE-TIME:20250920T072122
DTSTAMP;VALUE=DATE-TIME:20260424T160000Z
LOCATION:kyosk, Adlerstraße 2, 79098 Freiburg im Breisgau
URL://www.xn--untergrund-blttle-2qb.ch/events/355642/bezahlkarte-mach-mit-beim-solidarischen-gutscheintausch-kyosk-freiburg-im-breisgau.html
END:VEVENT
BEGIN:VTIMEZONE
TZID:Europe/Zurich
X-LIC-LOCATION:Europe/Zurich
BEGIN:STANDARD
DTSTART;VALUE=DATE-TIME:20260424T160000
TZNAME:CET
TZOFFSETFROM:+0200
TZOFFSETTO:+0100
END:STANDARD
BEGIN:DAYLIGHT
DTSTART;VALUE=DATE-TIME:20260424T160000
TZNAME:CEST
TZOFFSETFROM:+0100
TZOFFSETTO:+0200
END:DAYLIGHT
BEGIN:STANDARD
DTSTART;VALUE=DATE-TIME:20260424T160000
TZNAME:CET
TZOFFSETFROM:+0200
TZOFFSETTO:+0100
END:STANDARD
END:VTIMEZONE
END:VCALENDAR