BEGIN:VCALENDAR
VERSION:2.0
PRODID:-//UB-Event
TZID:Europe/Zurich
X-WR-TIMEZONE:Europe/Zurich
CALSCALE:GREGORIAN
BEGIN:VEVENT
SUMMARY:Tanzen für Queers
UID:355579
DTSTART;TZID=Europe/Zurich;VALUE=DATE-TIME:20260423T180000
DTEND;TZID=Europe/Zurich;VALUE=DATE-TIME:20260423T200000
LAST-MODIFIED;TZID=Europe/Zurich;VALUE=DATE-TIME:20250919T072116
DTSTAMP;VALUE=DATE-TIME:20260423T180000Z
LOCATION:erogene Zone: queerfeministisches Sexshop- und Bildungskollektiv, Adlerstraße 12, 79098 Freiburg im Breisgau
URL://www.xn--untergrund-blttle-2qb.ch/events/355579/tanzen-fuer-queers-erogene-zone-queerfeministisches-sexshop-und-bildungskollektiv-freiburg-im-breisgau.html
END:VEVENT
BEGIN:VTIMEZONE
TZID:Europe/Zurich
X-LIC-LOCATION:Europe/Zurich
BEGIN:STANDARD
DTSTART;VALUE=DATE-TIME:20260423T180000
TZNAME:CET
TZOFFSETFROM:+0200
TZOFFSETTO:+0100
END:STANDARD
BEGIN:DAYLIGHT
DTSTART;VALUE=DATE-TIME:20260423T180000
TZNAME:CEST
TZOFFSETFROM:+0100
TZOFFSETTO:+0200
END:DAYLIGHT
BEGIN:STANDARD
DTSTART;VALUE=DATE-TIME:20260423T180000
TZNAME:CET
TZOFFSETFROM:+0200
TZOFFSETTO:+0100
END:STANDARD
END:VTIMEZONE
END:VCALENDAR