BEGIN:VCALENDAR
VERSION:2.0
PRODID:-//UB-Event
TZID:Europe/Zurich
X-WR-TIMEZONE:Europe/Zurich
CALSCALE:GREGORIAN
BEGIN:VEVENT
SUMMARY:Greenpeace Jugend Plenum
UID:355571
DTSTART;TZID=Europe/Zurich;VALUE=DATE-TIME:20260422T170000
DTEND;TZID=Europe/Zurich;VALUE=DATE-TIME:20260422T190000
LAST-MODIFIED;TZID=Europe/Zurich;VALUE=DATE-TIME:20250918T072109
DTSTAMP;VALUE=DATE-TIME:20260422T170000Z
LOCATION:Haus des Engagements, Rehlingstraße 9, 79100 Freiburg im Breisgau
URL://www.xn--untergrund-blttle-2qb.ch/events/355571/greenpeace-jugend-plenum-haus-des-engagements-freiburg-im-breisgau.html
END:VEVENT
BEGIN:VTIMEZONE
TZID:Europe/Zurich
X-LIC-LOCATION:Europe/Zurich
BEGIN:STANDARD
DTSTART;VALUE=DATE-TIME:20260422T170000
TZNAME:CET
TZOFFSETFROM:+0200
TZOFFSETTO:+0100
END:STANDARD
BEGIN:DAYLIGHT
DTSTART;VALUE=DATE-TIME:20260422T170000
TZNAME:CEST
TZOFFSETFROM:+0100
TZOFFSETTO:+0200
END:DAYLIGHT
BEGIN:STANDARD
DTSTART;VALUE=DATE-TIME:20260422T170000
TZNAME:CET
TZOFFSETFROM:+0200
TZOFFSETTO:+0100
END:STANDARD
END:VTIMEZONE
END:VCALENDAR