BEGIN:VCALENDAR
VERSION:2.0
PRODID:-//UB-Event
TZID:Europe/Zurich
X-WR-TIMEZONE:Europe/Zurich
CALSCALE:GREGORIAN
BEGIN:VEVENT
SUMMARY:Offenes Treffen der Internationalen Jugend
UID:355407
DTSTART;TZID=Europe/Zurich;VALUE=DATE-TIME:20260421T183000
DTEND;TZID=Europe/Zurich;VALUE=DATE-TIME:20260421T203000
LAST-MODIFIED;TZID=Europe/Zurich;VALUE=DATE-TIME:20250917T102058
DTSTAMP;VALUE=DATE-TIME:20260421T183000Z
LOCATION:Konradstrasse 14 - Jugendhilfswerk jhw, Konradstraße 14, 79100 Freiburg im Breisgau
URL://www.xn--untergrund-blttle-2qb.ch/events/355407/offenes-treffen-der-internationalen-jugend-konradstrasse-14-jugendhilfswerk-jhw-freiburg-im-breisgau.html
END:VEVENT
BEGIN:VTIMEZONE
TZID:Europe/Zurich
X-LIC-LOCATION:Europe/Zurich
BEGIN:STANDARD
DTSTART;VALUE=DATE-TIME:20260421T183000
TZNAME:CET
TZOFFSETFROM:+0200
TZOFFSETTO:+0100
END:STANDARD
BEGIN:DAYLIGHT
DTSTART;VALUE=DATE-TIME:20260421T183000
TZNAME:CEST
TZOFFSETFROM:+0100
TZOFFSETTO:+0200
END:DAYLIGHT
BEGIN:STANDARD
DTSTART;VALUE=DATE-TIME:20260421T183000
TZNAME:CET
TZOFFSETFROM:+0200
TZOFFSETTO:+0100
END:STANDARD
END:VTIMEZONE
END:VCALENDAR