BEGIN:VCALENDAR
VERSION:2.0
PRODID:-//UB-Event
TZID:Europe/Zurich
X-WR-TIMEZONE:Europe/Zurich
CALSCALE:GREGORIAN
BEGIN:VEVENT
SUMMARY:Oliver Basel„Das schmeichelnde Contra“ – respektvolle Kritik in den Wissenschaften
UID:353613
DTSTART;TZID=Europe/Zurich;VALUE=DATE-TIME:20260509T103000
DTEND;TZID=Europe/Zurich;VALUE=DATE-TIME:20260509T123000
LAST-MODIFIED;TZID=Europe/Zurich;VALUE=DATE-TIME:20250805T034232
DTSTAMP;VALUE=DATE-TIME:20260509T103000Z
LOCATION:Hegelhaus, Eberhardstraße 53, 70173 Stuttgart
URL://www.xn--untergrund-blttle-2qb.ch/events/353613/oliver-baseldas-schmeichelnde-contra-respektvolle-kritik-in-den-wissenschaften-hegelhaus-stuttgart.html
END:VEVENT
BEGIN:VTIMEZONE
TZID:Europe/Zurich
X-LIC-LOCATION:Europe/Zurich
BEGIN:STANDARD
DTSTART;VALUE=DATE-TIME:20260509T103000
TZNAME:CET
TZOFFSETFROM:+0200
TZOFFSETTO:+0100
END:STANDARD
BEGIN:DAYLIGHT
DTSTART;VALUE=DATE-TIME:20260509T103000
TZNAME:CEST
TZOFFSETFROM:+0100
TZOFFSETTO:+0200
END:DAYLIGHT
BEGIN:STANDARD
DTSTART;VALUE=DATE-TIME:20260509T103000
TZNAME:CET
TZOFFSETFROM:+0200
TZOFFSETTO:+0100
END:STANDARD
END:VTIMEZONE
END:VCALENDAR