BEGIN:VCALENDAR
VERSION:2.0
PRODID:-//UB-Event
TZID:Europe/Zurich
X-WR-TIMEZONE:Europe/Zurich
CALSCALE:GREGORIAN
BEGIN:VEVENT
SUMMARY:Linux Einsteigerinnenkurs
UID:321372
DTSTART;TZID=Europe/Zurich;VALUE=DATE-TIME:20230314T190000
DTEND;TZID=Europe/Zurich;VALUE=DATE-TIME:20230314T210000
LAST-MODIFIED;TZID=Europe/Zurich;VALUE=DATE-TIME:20230305T031435
DTSTAMP;VALUE=DATE-TIME:20230314T190000Z
LOCATION:CCCFR - Chaos Computer Club Freiburg, Adlerstraße 12a, 79098 Freiburg im Breisgau
URL://www.xn--untergrund-blttle-2qb.ch/events/321372/linux-einsteigerinnenkurs-cccfr-chaos-computer-club-freiburg-freiburg-im-breisgau.html
END:VEVENT
BEGIN:VTIMEZONE
TZID:Europe/Zurich
X-LIC-LOCATION:Europe/Zurich
BEGIN:STANDARD
DTSTART;VALUE=DATE-TIME:20230314T190000
TZNAME:CET
TZOFFSETFROM:+0200
TZOFFSETTO:+0100
END:STANDARD
BEGIN:DAYLIGHT
DTSTART;VALUE=DATE-TIME:20230314T190000
TZNAME:CEST
TZOFFSETFROM:+0100
TZOFFSETTO:+0200
END:DAYLIGHT
BEGIN:STANDARD
DTSTART;VALUE=DATE-TIME:20230314T190000
TZNAME:CET
TZOFFSETFROM:+0200
TZOFFSETTO:+0100
END:STANDARD
END:VTIMEZONE
END:VCALENDAR