BEGIN:VCALENDAR
VERSION:2.0
PRODID:-//UB-Event
TZID:Europe/Zurich
X-WR-TIMEZONE:Europe/Zurich
CALSCALE:GREGORIAN
BEGIN:VEVENT
SUMMARY:Wilhelmsburg Solidarisch - Bürotag
UID:315469
DTSTART;TZID=Europe/Zurich;VALUE=DATE-TIME:20250910T120000
DTEND;TZID=Europe/Zurich;VALUE=DATE-TIME:20250910T140000
LAST-MODIFIED;TZID=Europe/Zurich;VALUE=DATE-TIME:20250630T031737
DTSTAMP;VALUE=DATE-TIME:20250910T120000Z
LOCATION:Infoladen Wilhelmsburg, Fährstraße 48, 21107 Hamburg
URL://www.xn--untergrund-blttle-2qb.ch/events/315469/wilhelmsburg-solidarisch-buerotag-infoladen-wilhelmsburg-hamburg.html
END:VEVENT
BEGIN:VTIMEZONE
TZID:Europe/Zurich
X-LIC-LOCATION:Europe/Zurich
BEGIN:STANDARD
DTSTART;VALUE=DATE-TIME:20250910T120000
TZNAME:CET
TZOFFSETFROM:+0200
TZOFFSETTO:+0100
END:STANDARD
BEGIN:DAYLIGHT
DTSTART;VALUE=DATE-TIME:20250910T120000
TZNAME:CEST
TZOFFSETFROM:+0100
TZOFFSETTO:+0200
END:DAYLIGHT
BEGIN:STANDARD
DTSTART;VALUE=DATE-TIME:20250910T120000
TZNAME:CET
TZOFFSETFROM:+0200
TZOFFSETTO:+0100
END:STANDARD
END:VTIMEZONE
END:VCALENDAR