BEGIN:VCALENDAR
VERSION:2.0
PRODID:-//UB-Event
TZID:Europe/Zurich
X-WR-TIMEZONE:Europe/Zurich
CALSCALE:GREGORIAN
BEGIN:VEVENT
SUMMARY:Kinoabend mit Regisseurin:  ISTANBUL MAKAMI/ ISTANBUL NOTES (2016, Turkey)
UID:305321
DTSTART;TZID=Europe/Zurich;VALUE=DATE-TIME:20200220T193000
DTEND;TZID=Europe/Zurich;VALUE=DATE-TIME:20200220T213000
LAST-MODIFIED;TZID=Europe/Zurich;VALUE=DATE-TIME:20200213T034006
DTSTAMP;VALUE=DATE-TIME:20200220T193000Z
LOCATION:Wagenburg Lohmühle, Lohmühlenstr. 17, 12435 Berlin
URL://www.xn--untergrund-blttle-2qb.ch/events/305321/kinoabend-mit-regisseurin-istanbul-makami-istanbul-notes-2016-turkey-wagenburg-lohmuehle-berlin.html
END:VEVENT
BEGIN:VTIMEZONE
TZID:Europe/Zurich
X-LIC-LOCATION:Europe/Zurich
BEGIN:STANDARD
DTSTART;VALUE=DATE-TIME:20200220T193000
TZNAME:CET
TZOFFSETFROM:+0200
TZOFFSETTO:+0100
END:STANDARD
BEGIN:DAYLIGHT
DTSTART;VALUE=DATE-TIME:20200220T193000
TZNAME:CEST
TZOFFSETFROM:+0100
TZOFFSETTO:+0200
END:DAYLIGHT
BEGIN:STANDARD
DTSTART;VALUE=DATE-TIME:20200220T193000
TZNAME:CET
TZOFFSETFROM:+0200
TZOFFSETTO:+0100
END:STANDARD
END:VTIMEZONE
END:VCALENDAR