BEGIN:VCALENDAR
VERSION:2.0
PRODID:-//UB-Event
TZID:Europe/Zurich
X-WR-TIMEZONE:Europe/Zurich
CALSCALE:GREGORIAN
BEGIN:VEVENT
SUMMARY:Buchvorstellung und Zeitzeugengespräch mit Dr. Eva Umlauf
UID:305107
DTSTART;TZID=Europe/Zurich;VALUE=DATE-TIME:20200228T190000
DTEND;TZID=Europe/Zurich;VALUE=DATE-TIME:20200228T210000
LAST-MODIFIED;TZID=Europe/Zurich;VALUE=DATE-TIME:20200131T040215
DTSTAMP;VALUE=DATE-TIME:20200228T190000Z
LOCATION:HdJK (Haus der Jugend Köpenick), Seelenbinderstraße 54, 12555 Berlin
URL://www.xn--untergrund-blttle-2qb.ch/events/305107/buchvorstellung-und-zeitzeugengespraech-mit-dr-eva-umlauf-hdjk-haus-der-jugend-koepenick-berlin.html
END:VEVENT
BEGIN:VTIMEZONE
TZID:Europe/Zurich
X-LIC-LOCATION:Europe/Zurich
BEGIN:STANDARD
DTSTART;VALUE=DATE-TIME:20200228T190000
TZNAME:CET
TZOFFSETFROM:+0200
TZOFFSETTO:+0100
END:STANDARD
BEGIN:DAYLIGHT
DTSTART;VALUE=DATE-TIME:20200228T190000
TZNAME:CEST
TZOFFSETFROM:+0100
TZOFFSETTO:+0200
END:DAYLIGHT
BEGIN:STANDARD
DTSTART;VALUE=DATE-TIME:20200228T190000
TZNAME:CET
TZOFFSETFROM:+0200
TZOFFSETTO:+0100
END:STANDARD
END:VTIMEZONE
END:VCALENDAR