BEGIN:VCALENDAR
VERSION:2.0
PRODID:-//UB-Event
TZID:Europe/Zurich
X-WR-TIMEZONE:Europe/Zurich
CALSCALE:GREGORIAN
BEGIN:VEVENT
SUMMARY:WORT – GEWALT – TAT
UID:304283
DTSTART;TZID=Europe/Zurich;VALUE=DATE-TIME:20200120T193000
DTEND;TZID=Europe/Zurich;VALUE=DATE-TIME:20200120T213000
LAST-MODIFIED;TZID=Europe/Zurich;VALUE=DATE-TIME:20191219T033208
DTSTAMP;VALUE=DATE-TIME:20200120T193000Z
LOCATION:Theateratelier, Bleichstraße 14 H, 63065 Frankfurt am Main
URL://www.xn--untergrund-blttle-2qb.ch/events/304283/wort-gewalt-tat-theateratelier-frankfurt-am-main.html
END:VEVENT
BEGIN:VTIMEZONE
TZID:Europe/Zurich
X-LIC-LOCATION:Europe/Zurich
BEGIN:STANDARD
DTSTART;VALUE=DATE-TIME:20200120T193000
TZNAME:CET
TZOFFSETFROM:+0200
TZOFFSETTO:+0100
END:STANDARD
BEGIN:DAYLIGHT
DTSTART;VALUE=DATE-TIME:20200120T193000
TZNAME:CEST
TZOFFSETFROM:+0100
TZOFFSETTO:+0200
END:DAYLIGHT
BEGIN:STANDARD
DTSTART;VALUE=DATE-TIME:20200120T193000
TZNAME:CET
TZOFFSETFROM:+0200
TZOFFSETTO:+0100
END:STANDARD
END:VTIMEZONE
END:VCALENDAR