BEGIN:VCALENDAR
VERSION:2.0
PRODID:-//UB-Event
TZID:Europe/Zurich
X-WR-TIMEZONE:Europe/Zurich
CALSCALE:GREGORIAN
BEGIN:VEVENT
SUMMARY:Handcrafting & Writing to Prisoners
UID:238007
DTSTART;TZID=Europe/Zurich;VALUE=DATE-TIME:20260426T130000
DTEND;TZID=Europe/Zurich;VALUE=DATE-TIME:20260426T150000
LAST-MODIFIED;TZID=Europe/Zurich;VALUE=DATE-TIME:20260425T065216
DTSTAMP;VALUE=DATE-TIME:20260426T130000Z
LOCATION:Infoladen Scherer, Schererstraße 8, 13347 Berlin
URL://www.xn--untergrund-blttle-2qb.ch/events/238007/handcrafting-writing-to-prisoners-infoladen-scherer-berlin.html
END:VEVENT
BEGIN:VTIMEZONE
TZID:Europe/Zurich
X-LIC-LOCATION:Europe/Zurich
BEGIN:STANDARD
DTSTART;VALUE=DATE-TIME:20260426T130000
TZNAME:CET
TZOFFSETFROM:+0200
TZOFFSETTO:+0100
END:STANDARD
BEGIN:DAYLIGHT
DTSTART;VALUE=DATE-TIME:20260426T130000
TZNAME:CEST
TZOFFSETFROM:+0100
TZOFFSETTO:+0200
END:DAYLIGHT
BEGIN:STANDARD
DTSTART;VALUE=DATE-TIME:20260426T130000
TZNAME:CET
TZOFFSETFROM:+0200
TZOFFSETTO:+0100
END:STANDARD
END:VTIMEZONE
END:VCALENDAR