BEGIN:VCALENDAR
VERSION:2.0
PRODID:-//UB-Event
TZID:Europe/Zurich
X-WR-TIMEZONE:Europe/Zurich
CALSCALE:GREGORIAN
BEGIN:VEVENT
SUMMARY:Internationales Sprachcafés - International Language-Café
UID:237972
DTSTART;TZID=Europe/Zurich;VALUE=DATE-TIME:20260425T140000
DTEND;TZID=Europe/Zurich;VALUE=DATE-TIME:20260425T160000
LAST-MODIFIED;TZID=Europe/Zurich;VALUE=DATE-TIME:20260424T070026
DTSTAMP;VALUE=DATE-TIME:20260425T140000Z
LOCATION:Coralle, Breslauer Straße 86, 45145 Essen
URL://www.xn--untergrund-blttle-2qb.ch/events/237972/internationales-sprachcafes-international-language-cafe-coralle-essen.html
END:VEVENT
BEGIN:VTIMEZONE
TZID:Europe/Zurich
X-LIC-LOCATION:Europe/Zurich
BEGIN:STANDARD
DTSTART;VALUE=DATE-TIME:20260425T140000
TZNAME:CET
TZOFFSETFROM:+0200
TZOFFSETTO:+0100
END:STANDARD
BEGIN:DAYLIGHT
DTSTART;VALUE=DATE-TIME:20260425T140000
TZNAME:CEST
TZOFFSETFROM:+0100
TZOFFSETTO:+0200
END:DAYLIGHT
BEGIN:STANDARD
DTSTART;VALUE=DATE-TIME:20260425T140000
TZNAME:CET
TZOFFSETFROM:+0200
TZOFFSETTO:+0100
END:STANDARD
END:VTIMEZONE
END:VCALENDAR