BEGIN:VCALENDAR
VERSION:2.0
PRODID:-//UB-Event
TZID:Europe/Zurich
X-WR-TIMEZONE:Europe/Zurich
CALSCALE:GREGORIAN
BEGIN:VEVENT
SUMMARY:Seebrücke Offenes Plenum
UID:237916
DTSTART;TZID=Europe/Zurich;VALUE=DATE-TIME:20260506T190000
DTEND;TZID=Europe/Zurich;VALUE=DATE-TIME:20260506T210000
LAST-MODIFIED;TZID=Europe/Zurich;VALUE=DATE-TIME:20260425T062010
DTSTAMP;VALUE=DATE-TIME:20260506T190000Z
LOCATION:Libelle, Kolonnadenstraße 19, 04109 Leipzig
URL://www.xn--untergrund-blttle-2qb.ch/events/237916/seebruecke-offenes-plenum-libelle-leipzig.html
END:VEVENT
BEGIN:VTIMEZONE
TZID:Europe/Zurich
X-LIC-LOCATION:Europe/Zurich
BEGIN:STANDARD
DTSTART;VALUE=DATE-TIME:20260506T190000
TZNAME:CET
TZOFFSETFROM:+0200
TZOFFSETTO:+0100
END:STANDARD
BEGIN:DAYLIGHT
DTSTART;VALUE=DATE-TIME:20260506T190000
TZNAME:CEST
TZOFFSETFROM:+0100
TZOFFSETTO:+0200
END:DAYLIGHT
BEGIN:STANDARD
DTSTART;VALUE=DATE-TIME:20260506T190000
TZNAME:CET
TZOFFSETFROM:+0200
TZOFFSETTO:+0100
END:STANDARD
END:VTIMEZONE
END:VCALENDAR