BEGIN:VCALENDAR
VERSION:2.0
PRODID:-//UB-Event
TZID:Europe/Zurich
X-WR-TIMEZONE:Europe/Zurich
CALSCALE:GREGORIAN
BEGIN:VEVENT
SUMMARY:Erinnern heisst Staatskritik
UID:237903
DTSTART;TZID=Europe/Zurich;VALUE=DATE-TIME:20260507T200000
DTEND;TZID=Europe/Zurich;VALUE=DATE-TIME:20260507T220000
LAST-MODIFIED;TZID=Europe/Zurich;VALUE=DATE-TIME:20260424T064010
DTSTAMP;VALUE=DATE-TIME:20260507T200000Z
LOCATION:Queerkafe im Kafe Marat, Thalkirchner Straße 102, 80337 München
URL://www.xn--untergrund-blttle-2qb.ch/events/237903/erinnern-heisst-staatskritik-queerkafe-im-kafe-marat-muenchen.html
END:VEVENT
BEGIN:VTIMEZONE
TZID:Europe/Zurich
X-LIC-LOCATION:Europe/Zurich
BEGIN:STANDARD
DTSTART;VALUE=DATE-TIME:20260507T200000
TZNAME:CET
TZOFFSETFROM:+0200
TZOFFSETTO:+0100
END:STANDARD
BEGIN:DAYLIGHT
DTSTART;VALUE=DATE-TIME:20260507T200000
TZNAME:CEST
TZOFFSETFROM:+0100
TZOFFSETTO:+0200
END:DAYLIGHT
BEGIN:STANDARD
DTSTART;VALUE=DATE-TIME:20260507T200000
TZNAME:CET
TZOFFSETFROM:+0200
TZOFFSETTO:+0100
END:STANDARD
END:VTIMEZONE
END:VCALENDAR