BEGIN:VCALENDAR
VERSION:2.0
PRODID:-//UB-Event
TZID:Europe/Zurich
X-WR-TIMEZONE:Europe/Zurich
CALSCALE:GREGORIAN
BEGIN:VEVENT
SUMMARY:DEAF CLUB (US) Kollision aus Noise, Grind und Hardcore & DOGS OUT
UID:237869
DTSTART;TZID=Europe/Zurich;VALUE=DATE-TIME:20260523T210000
DTEND;TZID=Europe/Zurich;VALUE=DATE-TIME:20260523T230000
LAST-MODIFIED;TZID=Europe/Zurich;VALUE=DATE-TIME:20260424T063834
DTSTAMP;VALUE=DATE-TIME:20260523T210000Z
LOCATION:Autorenbuchhandlung Marx & Co., Grüneburgweg, 60323 Frankfurt am Main
URL://www.xn--untergrund-blttle-2qb.ch/events/237869/deaf-club-us-kollision-aus-noise-grind-und-hardcore-dogs-out-autorenbuchhandlung-marx-co-frankfurt-am-main.html
END:VEVENT
BEGIN:VTIMEZONE
TZID:Europe/Zurich
X-LIC-LOCATION:Europe/Zurich
BEGIN:STANDARD
DTSTART;VALUE=DATE-TIME:20260523T210000
TZNAME:CET
TZOFFSETFROM:+0200
TZOFFSETTO:+0100
END:STANDARD
BEGIN:DAYLIGHT
DTSTART;VALUE=DATE-TIME:20260523T210000
TZNAME:CEST
TZOFFSETFROM:+0100
TZOFFSETTO:+0200
END:DAYLIGHT
BEGIN:STANDARD
DTSTART;VALUE=DATE-TIME:20260523T210000
TZNAME:CET
TZOFFSETFROM:+0200
TZOFFSETTO:+0100
END:STANDARD
END:VTIMEZONE
END:VCALENDAR