BEGIN:VCALENDAR
VERSION:2.0
PRODID:-//UB-Event
TZID:Europe/Zurich
X-WR-TIMEZONE:Europe/Zurich
CALSCALE:GREGORIAN
BEGIN:VEVENT
SUMMARY:PUNX & SKINS UNITED AGAIN Vol.3. 22.-23.05.2026 Freitag, 22.05.
UID:237866
DTSTART;TZID=Europe/Zurich;VALUE=DATE-TIME:20260523T210000
DTEND;TZID=Europe/Zurich;VALUE=DATE-TIME:20260523T230000
LAST-MODIFIED;TZID=Europe/Zurich;VALUE=DATE-TIME:20260424T063834
DTSTAMP;VALUE=DATE-TIME:20260523T210000Z
LOCATION:Szene, Hauffgasse 26, 1110 Wien
URL://www.xn--untergrund-blttle-2qb.ch/events/237866/punx-skins-united-again-vol-3-22-23-05-2026-freitag-22-05-szene-wien.html
END:VEVENT
BEGIN:VTIMEZONE
TZID:Europe/Zurich
X-LIC-LOCATION:Europe/Zurich
BEGIN:STANDARD
DTSTART;VALUE=DATE-TIME:20260523T210000
TZNAME:CET
TZOFFSETFROM:+0200
TZOFFSETTO:+0100
END:STANDARD
BEGIN:DAYLIGHT
DTSTART;VALUE=DATE-TIME:20260523T210000
TZNAME:CEST
TZOFFSETFROM:+0100
TZOFFSETTO:+0200
END:DAYLIGHT
BEGIN:STANDARD
DTSTART;VALUE=DATE-TIME:20260523T210000
TZNAME:CET
TZOFFSETFROM:+0200
TZOFFSETTO:+0100
END:STANDARD
END:VTIMEZONE
END:VCALENDAR