BEGIN:VCALENDAR
VERSION:2.0
PRODID:-//UB-Event
TZID:Europe/Zurich
X-WR-TIMEZONE:Europe/Zurich
CALSCALE:GREGORIAN
BEGIN:VEVENT
SUMMARY:„Wie viel gestern ist morgen? Unser Wald zwischen historischer Verklärung und Zukunftsfähigkeit. Eine wissenschaftliche Annäherung"
UID:237840
DTSTART;TZID=Europe/Zurich;VALUE=DATE-TIME:20260428T161500
DTEND;TZID=Europe/Zurich;VALUE=DATE-TIME:20260428T181500
LAST-MODIFIED;TZID=Europe/Zurich;VALUE=DATE-TIME:20260423T071517
DTSTAMP;VALUE=DATE-TIME:20260428T161500Z
LOCATION:Universität Freiburg Kollegiengebäude I, Platz der Universität 3, 79098 Freiburg im Breisgau
URL://www.xn--untergrund-blttle-2qb.ch/events/237840/wie-viel-gestern-ist-morgen-unser-wald-zwischen-historischer-verklaerung-und-zukunftsfaehigkeit-eine-wissenschaftliche-annaeherung-universitaet-freiburg-kollegiengebaeude-i-freiburg-im-breisgau.html
END:VEVENT
BEGIN:VTIMEZONE
TZID:Europe/Zurich
X-LIC-LOCATION:Europe/Zurich
BEGIN:STANDARD
DTSTART;VALUE=DATE-TIME:20260428T161500
TZNAME:CET
TZOFFSETFROM:+0200
TZOFFSETTO:+0100
END:STANDARD
BEGIN:DAYLIGHT
DTSTART;VALUE=DATE-TIME:20260428T161500
TZNAME:CEST
TZOFFSETFROM:+0100
TZOFFSETTO:+0200
END:DAYLIGHT
BEGIN:STANDARD
DTSTART;VALUE=DATE-TIME:20260428T161500
TZNAME:CET
TZOFFSETFROM:+0200
TZOFFSETTO:+0100
END:STANDARD
END:VTIMEZONE
END:VCALENDAR