BEGIN:VCALENDAR
VERSION:2.0
PRODID:-//UB-Event
TZID:Europe/Zurich
X-WR-TIMEZONE:Europe/Zurich
CALSCALE:GREGORIAN
BEGIN:VEVENT
SUMMARY:Türkische Küfa (Küche für Alle)
UID:237833
DTSTART;TZID=Europe/Zurich;VALUE=DATE-TIME:20260425T160000
DTEND;TZID=Europe/Zurich;VALUE=DATE-TIME:20260425T180000
LAST-MODIFIED;TZID=Europe/Zurich;VALUE=DATE-TIME:20260423T071510
DTSTAMP;VALUE=DATE-TIME:20260425T160000Z
LOCATION:Bürgertreff Haslach, Melanchthonweg 9, 79115 Freiburg im Breisgau
URL://www.xn--untergrund-blttle-2qb.ch/events/237833/tuerkische-kuefa-kueche-fuer-alle-buergertreff-haslach-freiburg-im-breisgau.html
END:VEVENT
BEGIN:VTIMEZONE
TZID:Europe/Zurich
X-LIC-LOCATION:Europe/Zurich
BEGIN:STANDARD
DTSTART;VALUE=DATE-TIME:20260425T160000
TZNAME:CET
TZOFFSETFROM:+0200
TZOFFSETTO:+0100
END:STANDARD
BEGIN:DAYLIGHT
DTSTART;VALUE=DATE-TIME:20260425T160000
TZNAME:CEST
TZOFFSETFROM:+0100
TZOFFSETTO:+0200
END:DAYLIGHT
BEGIN:STANDARD
DTSTART;VALUE=DATE-TIME:20260425T160000
TZNAME:CET
TZOFFSETFROM:+0200
TZOFFSETTO:+0100
END:STANDARD
END:VTIMEZONE
END:VCALENDAR