BEGIN:VCALENDAR
VERSION:2.0
PRODID:-//UB-Event
TZID:Europe/Zurich
X-WR-TIMEZONE:Europe/Zurich
CALSCALE:GREGORIAN
BEGIN:VEVENT
SUMMARY:Stadtpolitische Konferenz 2026 der Berliner MieterGemeinschaft - Wohnungskrise und kein Ende?
UID:237831
DTSTART;TZID=Europe/Zurich;VALUE=DATE-TIME:20260425T130000
DTEND;TZID=Europe/Zurich;VALUE=DATE-TIME:20260425T150000
LAST-MODIFIED;TZID=Europe/Zurich;VALUE=DATE-TIME:20260423T065215
DTSTAMP;VALUE=DATE-TIME:20260425T130000Z
LOCATION:IG Metall, Alte Jakobstraße 149, 10969 Berlin
URL://www.xn--untergrund-blttle-2qb.ch/events/237831/stadtpolitische-konferenz-2026-der-berliner-mietergemeinschaft-wohnungskrise-und-kein-ende-ig-metall-berlin.html
END:VEVENT
BEGIN:VTIMEZONE
TZID:Europe/Zurich
X-LIC-LOCATION:Europe/Zurich
BEGIN:STANDARD
DTSTART;VALUE=DATE-TIME:20260425T130000
TZNAME:CET
TZOFFSETFROM:+0200
TZOFFSETTO:+0100
END:STANDARD
BEGIN:DAYLIGHT
DTSTART;VALUE=DATE-TIME:20260425T130000
TZNAME:CEST
TZOFFSETFROM:+0100
TZOFFSETTO:+0200
END:DAYLIGHT
BEGIN:STANDARD
DTSTART;VALUE=DATE-TIME:20260425T130000
TZNAME:CET
TZOFFSETFROM:+0200
TZOFFSETTO:+0100
END:STANDARD
END:VTIMEZONE
END:VCALENDAR