BEGIN:VCALENDAR
VERSION:2.0
PRODID:-//UB-Event
TZID:Europe/Zurich
X-WR-TIMEZONE:Europe/Zurich
CALSCALE:GREGORIAN
BEGIN:VEVENT
SUMMARY:"Tag der Befreiung | 80 Jahre antifaschistische Republik"
UID:237830
DTSTART;TZID=Europe/Zurich;VALUE=DATE-TIME:20260425T120000
DTEND;TZID=Europe/Zurich;VALUE=DATE-TIME:20260425T140000
LAST-MODIFIED;TZID=Europe/Zurich;VALUE=DATE-TIME:20260423T065215
DTSTAMP;VALUE=DATE-TIME:20260425T120000Z
LOCATION:Regenbogenfabrik, Lausitzer Str. 22, 10999 Berlin
URL://www.xn--untergrund-blttle-2qb.ch/events/237830/tag-der-befreiung-80-jahre-antifaschistische-republik-regenbogenfabrik-berlin.html
END:VEVENT
BEGIN:VTIMEZONE
TZID:Europe/Zurich
X-LIC-LOCATION:Europe/Zurich
BEGIN:STANDARD
DTSTART;VALUE=DATE-TIME:20260425T120000
TZNAME:CET
TZOFFSETFROM:+0200
TZOFFSETTO:+0100
END:STANDARD
BEGIN:DAYLIGHT
DTSTART;VALUE=DATE-TIME:20260425T120000
TZNAME:CEST
TZOFFSETFROM:+0100
TZOFFSETTO:+0200
END:DAYLIGHT
BEGIN:STANDARD
DTSTART;VALUE=DATE-TIME:20260425T120000
TZNAME:CET
TZOFFSETFROM:+0200
TZOFFSETTO:+0100
END:STANDARD
END:VTIMEZONE
END:VCALENDAR