BEGIN:VCALENDAR
VERSION:2.0
PRODID:-//UB-Event
TZID:Europe/Zurich
X-WR-TIMEZONE:Europe/Zurich
CALSCALE:GREGORIAN
BEGIN:VEVENT
SUMMARY:Workshop: KI erkennen, Algorithmen durchschauen...
UID:237828
DTSTART;TZID=Europe/Zurich;VALUE=DATE-TIME:20260425T100000
DTEND;TZID=Europe/Zurich;VALUE=DATE-TIME:20260425T120000
LAST-MODIFIED;TZID=Europe/Zurich;VALUE=DATE-TIME:20260423T065214
DTSTAMP;VALUE=DATE-TIME:20260425T100000Z
LOCATION:Hedwig Dohm Haus, Ziegelstr. 4, 13129 Berlin
URL://www.xn--untergrund-blttle-2qb.ch/events/237828/workshop-ki-erkennen-algorithmen-durchschauen-hedwig-dohm-haus-berlin.html
END:VEVENT
BEGIN:VTIMEZONE
TZID:Europe/Zurich
X-LIC-LOCATION:Europe/Zurich
BEGIN:STANDARD
DTSTART;VALUE=DATE-TIME:20260425T100000
TZNAME:CET
TZOFFSETFROM:+0200
TZOFFSETTO:+0100
END:STANDARD
BEGIN:DAYLIGHT
DTSTART;VALUE=DATE-TIME:20260425T100000
TZNAME:CEST
TZOFFSETFROM:+0100
TZOFFSETTO:+0200
END:DAYLIGHT
BEGIN:STANDARD
DTSTART;VALUE=DATE-TIME:20260425T100000
TZNAME:CET
TZOFFSETFROM:+0200
TZOFFSETTO:+0100
END:STANDARD
END:VTIMEZONE
END:VCALENDAR