BEGIN:VCALENDAR
VERSION:2.0
PRODID:-//UB-Event
TZID:Europe/Zurich
X-WR-TIMEZONE:Europe/Zurich
CALSCALE:GREGORIAN
BEGIN:VEVENT
SUMMARY:Am 24.4. öffnet unser Palast sein Forten
UID:237824
DTSTART;TZID=Europe/Zurich;VALUE=DATE-TIME:20260424T200000
DTEND;TZID=Europe/Zurich;VALUE=DATE-TIME:20260424T220000
LAST-MODIFIED;TZID=Europe/Zurich;VALUE=DATE-TIME:20260423T065211
DTSTAMP;VALUE=DATE-TIME:20260424T200000Z
LOCATION:Archiv Potsdam, Leipziger Str. 60, 10117 Berlin
URL://www.xn--untergrund-blttle-2qb.ch/events/237824/am-24-4-oeffnet-unser-palast-sein-forten-archiv-potsdam-berlin.html
END:VEVENT
BEGIN:VTIMEZONE
TZID:Europe/Zurich
X-LIC-LOCATION:Europe/Zurich
BEGIN:STANDARD
DTSTART;VALUE=DATE-TIME:20260424T200000
TZNAME:CET
TZOFFSETFROM:+0200
TZOFFSETTO:+0100
END:STANDARD
BEGIN:DAYLIGHT
DTSTART;VALUE=DATE-TIME:20260424T200000
TZNAME:CEST
TZOFFSETFROM:+0100
TZOFFSETTO:+0200
END:DAYLIGHT
BEGIN:STANDARD
DTSTART;VALUE=DATE-TIME:20260424T200000
TZNAME:CET
TZOFFSETFROM:+0200
TZOFFSETTO:+0100
END:STANDARD
END:VTIMEZONE
END:VCALENDAR