BEGIN:VCALENDAR
VERSION:2.0
PRODID:-//UB-Event
TZID:Europe/Zurich
X-WR-TIMEZONE:Europe/Zurich
CALSCALE:GREGORIAN
BEGIN:VEVENT
SUMMARY:Vortrag und Diskussion
UID:237816
DTSTART;TZID=Europe/Zurich;VALUE=DATE-TIME:20260424T190000
DTEND;TZID=Europe/Zurich;VALUE=DATE-TIME:20260424T210000
LAST-MODIFIED;TZID=Europe/Zurich;VALUE=DATE-TIME:20260423T065207
DTSTAMP;VALUE=DATE-TIME:20260424T190000Z
LOCATION:Museum des Kapitalismus, Köpenicker Str. 172, 12683 Berlin
URL://www.xn--untergrund-blttle-2qb.ch/events/237816/vortrag-und-diskussion-museum-des-kapitalismus-berlin.html
END:VEVENT
BEGIN:VTIMEZONE
TZID:Europe/Zurich
X-LIC-LOCATION:Europe/Zurich
BEGIN:STANDARD
DTSTART;VALUE=DATE-TIME:20260424T190000
TZNAME:CET
TZOFFSETFROM:+0200
TZOFFSETTO:+0100
END:STANDARD
BEGIN:DAYLIGHT
DTSTART;VALUE=DATE-TIME:20260424T190000
TZNAME:CEST
TZOFFSETFROM:+0100
TZOFFSETTO:+0200
END:DAYLIGHT
BEGIN:STANDARD
DTSTART;VALUE=DATE-TIME:20260424T190000
TZNAME:CET
TZOFFSETFROM:+0200
TZOFFSETTO:+0100
END:STANDARD
END:VTIMEZONE
END:VCALENDAR