BEGIN:VCALENDAR
VERSION:2.0
PRODID:-//UB-Event
TZID:Europe/Zurich
X-WR-TIMEZONE:Europe/Zurich
CALSCALE:GREGORIAN
BEGIN:VEVENT
SUMMARY:MILLIONS OF DEAD COPS (MDC) are the hardcore/punk pioneer from 1979
UID:237808
DTSTART;TZID=Europe/Zurich;VALUE=DATE-TIME:20260523T210000
DTEND;TZID=Europe/Zurich;VALUE=DATE-TIME:20260523T230000
LAST-MODIFIED;TZID=Europe/Zurich;VALUE=DATE-TIME:20260423T063836
DTSTAMP;VALUE=DATE-TIME:20260523T210000Z
LOCATION:Kunstverein e.V. (KV), Frankenstraße 200, 90461 Nürnberg
URL://www.xn--untergrund-blttle-2qb.ch/events/237808/millions-of-dead-cops-mdc-are-the-hardcore-punk-pioneer-from-1979-kunstverein-e-v-kv-nuernberg.html
END:VEVENT
BEGIN:VTIMEZONE
TZID:Europe/Zurich
X-LIC-LOCATION:Europe/Zurich
BEGIN:STANDARD
DTSTART;VALUE=DATE-TIME:20260523T210000
TZNAME:CET
TZOFFSETFROM:+0200
TZOFFSETTO:+0100
END:STANDARD
BEGIN:DAYLIGHT
DTSTART;VALUE=DATE-TIME:20260523T210000
TZNAME:CEST
TZOFFSETFROM:+0100
TZOFFSETTO:+0200
END:DAYLIGHT
BEGIN:STANDARD
DTSTART;VALUE=DATE-TIME:20260523T210000
TZNAME:CET
TZOFFSETFROM:+0200
TZOFFSETTO:+0100
END:STANDARD
END:VTIMEZONE
END:VCALENDAR