BEGIN:VCALENDAR
VERSION:2.0
PRODID:-//UB-Event
TZID:Europe/Zurich
X-WR-TIMEZONE:Europe/Zurich
CALSCALE:GREGORIAN
BEGIN:VEVENT
SUMMARY:Nightstalker (GRC/mem. of Rotting Christ) & Last Bølt Ceremony
UID:237782
DTSTART;TZID=Europe/Zurich;VALUE=DATE-TIME:20260523T210000
DTEND;TZID=Europe/Zurich;VALUE=DATE-TIME:20260523T230000
LAST-MODIFIED;TZID=Europe/Zurich;VALUE=DATE-TIME:20260423T063836
DTSTAMP;VALUE=DATE-TIME:20260523T210000Z
LOCATION:Rare Guitar, Hafenstraße 64, 48153 Münster
URL://www.xn--untergrund-blttle-2qb.ch/events/237782/nightstalker-grc-mem-of-rotting-christ-last-boelt-ceremony-rare-guitar-muenster.html
END:VEVENT
BEGIN:VTIMEZONE
TZID:Europe/Zurich
X-LIC-LOCATION:Europe/Zurich
BEGIN:STANDARD
DTSTART;VALUE=DATE-TIME:20260523T210000
TZNAME:CET
TZOFFSETFROM:+0200
TZOFFSETTO:+0100
END:STANDARD
BEGIN:DAYLIGHT
DTSTART;VALUE=DATE-TIME:20260523T210000
TZNAME:CEST
TZOFFSETFROM:+0100
TZOFFSETTO:+0200
END:DAYLIGHT
BEGIN:STANDARD
DTSTART;VALUE=DATE-TIME:20260523T210000
TZNAME:CET
TZOFFSETFROM:+0200
TZOFFSETTO:+0100
END:STANDARD
END:VTIMEZONE
END:VCALENDAR