BEGIN:VCALENDAR
VERSION:2.0
PRODID:-//UB-Event
TZID:Europe/Zurich
X-WR-TIMEZONE:Europe/Zurich
CALSCALE:GREGORIAN
BEGIN:VEVENT
SUMMARY:Lesung "Handbuch Transformative Gerechtigkeit - Selbstorganisierte Umgänge mit Konflikten und zwischenmenschlicher Gewalt"
UID:237757
DTSTART;TZID=Europe/Zurich;VALUE=DATE-TIME:20260423T180000
DTEND;TZID=Europe/Zurich;VALUE=DATE-TIME:20260423T200000
LAST-MODIFIED;TZID=Europe/Zurich;VALUE=DATE-TIME:20260422T070017
DTSTAMP;VALUE=DATE-TIME:20260423T180000Z
LOCATION:Oval Office Bar, Saladin-Schmitt-Straße 2, 44789 Bochum
URL://www.xn--untergrund-blttle-2qb.ch/events/237757/lesung-handbuch-transformative-gerechtigkeit-selbstorganisierte-umgaenge-mit-konflikten-und-zwischenmenschlicher-gewalt-oval-office-bar-bochum.html
END:VEVENT
BEGIN:VTIMEZONE
TZID:Europe/Zurich
X-LIC-LOCATION:Europe/Zurich
BEGIN:STANDARD
DTSTART;VALUE=DATE-TIME:20260423T180000
TZNAME:CET
TZOFFSETFROM:+0200
TZOFFSETTO:+0100
END:STANDARD
BEGIN:DAYLIGHT
DTSTART;VALUE=DATE-TIME:20260423T180000
TZNAME:CEST
TZOFFSETFROM:+0100
TZOFFSETTO:+0200
END:DAYLIGHT
BEGIN:STANDARD
DTSTART;VALUE=DATE-TIME:20260423T180000
TZNAME:CET
TZOFFSETFROM:+0200
TZOFFSETTO:+0100
END:STANDARD
END:VTIMEZONE
END:VCALENDAR