BEGIN:VCALENDAR
VERSION:2.0
PRODID:-//UB-Event
TZID:Europe/Zurich
X-WR-TIMEZONE:Europe/Zurich
CALSCALE:GREGORIAN
BEGIN:VEVENT
SUMMARY:20 Jahre Patchanka Booking Geburtstagskonzert & Party Lilac Attitude La
UID:237659
DTSTART;TZID=Europe/Zurich;VALUE=DATE-TIME:20260423T210000
DTEND;TZID=Europe/Zurich;VALUE=DATE-TIME:20260423T230000
LAST-MODIFIED;TZID=Europe/Zurich;VALUE=DATE-TIME:20260423T063803
DTSTAMP;VALUE=DATE-TIME:20260423T210000Z
LOCATION:Privatclub, Skalitzer Strasse 85-86, 10997 Berlin
URL://www.xn--untergrund-blttle-2qb.ch/events/237659/20-jahre-patchanka-booking-geburtstagskonzert-party-lilac-attitude-la-privatclub-berlin.html
END:VEVENT
BEGIN:VTIMEZONE
TZID:Europe/Zurich
X-LIC-LOCATION:Europe/Zurich
BEGIN:STANDARD
DTSTART;VALUE=DATE-TIME:20260423T210000
TZNAME:CET
TZOFFSETFROM:+0200
TZOFFSETTO:+0100
END:STANDARD
BEGIN:DAYLIGHT
DTSTART;VALUE=DATE-TIME:20260423T210000
TZNAME:CEST
TZOFFSETFROM:+0100
TZOFFSETTO:+0200
END:DAYLIGHT
BEGIN:STANDARD
DTSTART;VALUE=DATE-TIME:20260423T210000
TZNAME:CET
TZOFFSETFROM:+0200
TZOFFSETTO:+0100
END:STANDARD
END:VTIMEZONE
END:VCALENDAR