BEGIN:VCALENDAR
VERSION:2.0
PRODID:-//UB-Event
TZID:Europe/Zurich
X-WR-TIMEZONE:Europe/Zurich
CALSCALE:GREGORIAN
BEGIN:VEVENT
SUMMARY:Antifeminismus bei jungen Männern – Theorie & Theke
UID:237654
DTSTART;TZID=Europe/Zurich;VALUE=DATE-TIME:20260430T190000
DTEND;TZID=Europe/Zurich;VALUE=DATE-TIME:20260430T210000
LAST-MODIFIED;TZID=Europe/Zurich;VALUE=DATE-TIME:20260423T061945
DTSTAMP;VALUE=DATE-TIME:20260430T190000Z
LOCATION:Ladenlokal der Falken Leipzig, Dimpfelstraße 33, 04347 Leipzig
URL://www.xn--untergrund-blttle-2qb.ch/events/237654/antifeminismus-bei-jungen-maennern-theorie-theke-ladenlokal-der-falken-leipzig-leipzig.html
END:VEVENT
BEGIN:VTIMEZONE
TZID:Europe/Zurich
X-LIC-LOCATION:Europe/Zurich
BEGIN:STANDARD
DTSTART;VALUE=DATE-TIME:20260430T190000
TZNAME:CET
TZOFFSETFROM:+0200
TZOFFSETTO:+0100
END:STANDARD
BEGIN:DAYLIGHT
DTSTART;VALUE=DATE-TIME:20260430T190000
TZNAME:CEST
TZOFFSETFROM:+0100
TZOFFSETTO:+0200
END:DAYLIGHT
BEGIN:STANDARD
DTSTART;VALUE=DATE-TIME:20260430T190000
TZNAME:CET
TZOFFSETFROM:+0200
TZOFFSETTO:+0100
END:STANDARD
END:VTIMEZONE
END:VCALENDAR