BEGIN:VCALENDAR
VERSION:2.0
PRODID:-//UB-Event
TZID:Europe/Zurich
X-WR-TIMEZONE:Europe/Zurich
CALSCALE:GREGORIAN
BEGIN:VEVENT
SUMMARY:Stadtteilspaziergang: Auf den Spuren der KPD
UID:237647
DTSTART;TZID=Europe/Zurich;VALUE=DATE-TIME:20260509T160000
DTEND;TZID=Europe/Zurich;VALUE=DATE-TIME:20260509T180000
LAST-MODIFIED;TZID=Europe/Zurich;VALUE=DATE-TIME:20260423T061152
DTSTAMP;VALUE=DATE-TIME:20260509T160000Z
LOCATION:Bahnhof Höchst, Dalbergstraße, 65929 Frankfurt am Main
URL://www.xn--untergrund-blttle-2qb.ch/events/237647/stadtteilspaziergang-auf-den-spuren-der-kpd-bahnhof-hoechst-frankfurt-am-main.html
END:VEVENT
BEGIN:VTIMEZONE
TZID:Europe/Zurich
X-LIC-LOCATION:Europe/Zurich
BEGIN:STANDARD
DTSTART;VALUE=DATE-TIME:20260509T160000
TZNAME:CET
TZOFFSETFROM:+0200
TZOFFSETTO:+0100
END:STANDARD
BEGIN:DAYLIGHT
DTSTART;VALUE=DATE-TIME:20260509T160000
TZNAME:CEST
TZOFFSETFROM:+0100
TZOFFSETTO:+0200
END:DAYLIGHT
BEGIN:STANDARD
DTSTART;VALUE=DATE-TIME:20260509T160000
TZNAME:CET
TZOFFSETFROM:+0200
TZOFFSETTO:+0100
END:STANDARD
END:VTIMEZONE
END:VCALENDAR