BEGIN:VCALENDAR
VERSION:2.0
PRODID:-//UB-Event
TZID:Europe/Zurich
X-WR-TIMEZONE:Europe/Zurich
CALSCALE:GREGORIAN
BEGIN:VEVENT
SUMMARY:Antikapitalistischer Stammtisch: Der Krieg im Iran
UID:237645
DTSTART;TZID=Europe/Zurich;VALUE=DATE-TIME:20260429T190000
DTEND;TZID=Europe/Zurich;VALUE=DATE-TIME:20260429T210000
LAST-MODIFIED;TZID=Europe/Zurich;VALUE=DATE-TIME:20260423T061053
DTSTAMP;VALUE=DATE-TIME:20260429T190000Z
LOCATION:Nachtleben, Kurt-Schumacher-Strasse 45, 60433 Frankfurt am Main
URL://www.xn--untergrund-blttle-2qb.ch/events/237645/antikapitalistischer-stammtisch-der-krieg-im-iran-nachtleben-frankfurt-am-main.html
END:VEVENT
BEGIN:VTIMEZONE
TZID:Europe/Zurich
X-LIC-LOCATION:Europe/Zurich
BEGIN:STANDARD
DTSTART;VALUE=DATE-TIME:20260429T190000
TZNAME:CET
TZOFFSETFROM:+0200
TZOFFSETTO:+0100
END:STANDARD
BEGIN:DAYLIGHT
DTSTART;VALUE=DATE-TIME:20260429T190000
TZNAME:CEST
TZOFFSETFROM:+0100
TZOFFSETTO:+0200
END:DAYLIGHT
BEGIN:STANDARD
DTSTART;VALUE=DATE-TIME:20260429T190000
TZNAME:CET
TZOFFSETFROM:+0200
TZOFFSETTO:+0100
END:STANDARD
END:VTIMEZONE
END:VCALENDAR