BEGIN:VCALENDAR
VERSION:2.0
PRODID:-//UB-Event
TZID:Europe/Zurich
X-WR-TIMEZONE:Europe/Zurich
CALSCALE:GREGORIAN
BEGIN:VEVENT
SUMMARY:Buchpräsentation: „Was war Faschismustheorie?“
UID:237636
DTSTART;TZID=Europe/Zurich;VALUE=DATE-TIME:20260528T183000
DTEND;TZID=Europe/Zurich;VALUE=DATE-TIME:20260528T203000
LAST-MODIFIED;TZID=Europe/Zurich;VALUE=DATE-TIME:20260424T055829
DTSTAMP;VALUE=DATE-TIME:20260528T183000Z
LOCATION:Institut für Kunstgeschichte, Institut für Kunstgeschichte, Seminarraum 1, Campus Altes AKH, Hof 9, 9.2, Garnisongasse 13, 1090 Wien, 1090 Wien
URL://www.xn--untergrund-blttle-2qb.ch/events/237636/buchpraesentation-was-war-faschismustheorie-institut-fuer-kunstgeschichte-wien.html
END:VEVENT
BEGIN:VTIMEZONE
TZID:Europe/Zurich
X-LIC-LOCATION:Europe/Zurich
BEGIN:STANDARD
DTSTART;VALUE=DATE-TIME:20260528T183000
TZNAME:CET
TZOFFSETFROM:+0200
TZOFFSETTO:+0100
END:STANDARD
BEGIN:DAYLIGHT
DTSTART;VALUE=DATE-TIME:20260528T183000
TZNAME:CEST
TZOFFSETFROM:+0100
TZOFFSETTO:+0200
END:DAYLIGHT
BEGIN:STANDARD
DTSTART;VALUE=DATE-TIME:20260528T183000
TZNAME:CET
TZOFFSETFROM:+0200
TZOFFSETTO:+0100
END:STANDARD
END:VTIMEZONE
END:VCALENDAR