BEGIN:VCALENDAR
VERSION:2.0
PRODID:-//UB-Event
TZID:Europe/Zurich
X-WR-TIMEZONE:Europe/Zurich
CALSCALE:GREGORIAN
BEGIN:VEVENT
SUMMARY:Strassenfest "Gemeinsam Rudolfsheim"
UID:237632
DTSTART;TZID=Europe/Zurich;VALUE=DATE-TIME:20260510T100000
DTEND;TZID=Europe/Zurich;VALUE=DATE-TIME:20260510T120000
LAST-MODIFIED;TZID=Europe/Zurich;VALUE=DATE-TIME:20260424T055820
DTSTAMP;VALUE=DATE-TIME:20260510T100000Z
LOCATION:am Wieningerplatz und in der Goldschlagstraße, am Wieningerplatz und in der Goldschlagstraße, 1150 Wien, 1150 Wien
URL://www.xn--untergrund-blttle-2qb.ch/events/237632/strassenfest-gemeinsam-rudolfsheim-am-wieningerplatz-und-in-der-goldschlagstrasse-wien.html
END:VEVENT
BEGIN:VTIMEZONE
TZID:Europe/Zurich
X-LIC-LOCATION:Europe/Zurich
BEGIN:STANDARD
DTSTART;VALUE=DATE-TIME:20260510T100000
TZNAME:CET
TZOFFSETFROM:+0200
TZOFFSETTO:+0100
END:STANDARD
BEGIN:DAYLIGHT
DTSTART;VALUE=DATE-TIME:20260510T100000
TZNAME:CEST
TZOFFSETFROM:+0100
TZOFFSETTO:+0200
END:DAYLIGHT
BEGIN:STANDARD
DTSTART;VALUE=DATE-TIME:20260510T100000
TZNAME:CET
TZOFFSETFROM:+0200
TZOFFSETTO:+0100
END:STANDARD
END:VTIMEZONE
END:VCALENDAR