BEGIN:VCALENDAR
VERSION:2.0
PRODID:-//UB-Event
TZID:Europe/Zurich
X-WR-TIMEZONE:Europe/Zurich
CALSCALE:GREGORIAN
BEGIN:VEVENT
SUMMARY:KüfA – Küche für Alle
UID:237617
DTSTART;TZID=Europe/Zurich;VALUE=DATE-TIME:20260818T170000
DTEND;TZID=Europe/Zurich;VALUE=DATE-TIME:20260818T190000
LAST-MODIFIED;TZID=Europe/Zurich;VALUE=DATE-TIME:20260423T054900
DTSTAMP;VALUE=DATE-TIME:20260818T170000Z
LOCATION:Kuna, Schauenburgstraße 5, 76135 Karlsruhe
URL://www.xn--untergrund-blttle-2qb.ch/events/237617/kuefa-kueche-fuer-alle-kuna-karlsruhe.html
END:VEVENT
BEGIN:VTIMEZONE
TZID:Europe/Zurich
X-LIC-LOCATION:Europe/Zurich
BEGIN:STANDARD
DTSTART;VALUE=DATE-TIME:20260818T170000
TZNAME:CET
TZOFFSETFROM:+0200
TZOFFSETTO:+0100
END:STANDARD
BEGIN:DAYLIGHT
DTSTART;VALUE=DATE-TIME:20260818T170000
TZNAME:CEST
TZOFFSETFROM:+0100
TZOFFSETTO:+0200
END:DAYLIGHT
BEGIN:STANDARD
DTSTART;VALUE=DATE-TIME:20260818T170000
TZNAME:CET
TZOFFSETFROM:+0200
TZOFFSETTO:+0100
END:STANDARD
END:VTIMEZONE
END:VCALENDAR