BEGIN:VCALENDAR
VERSION:2.0
PRODID:-//UB-Event
TZID:Europe/Zurich
X-WR-TIMEZONE:Europe/Zurich
CALSCALE:GREGORIAN
BEGIN:VEVENT
SUMMARY:Voodoo Jürgens Die ersten drei Alben sind allesamt bereits verdiente Klassiker
UID:237607
DTSTART;TZID=Europe/Zurich;VALUE=DATE-TIME:20260522T210000
DTEND;TZID=Europe/Zurich;VALUE=DATE-TIME:20260522T230000
LAST-MODIFIED;TZID=Europe/Zurich;VALUE=DATE-TIME:20260422T063834
DTSTAMP;VALUE=DATE-TIME:20260522T210000Z
LOCATION:Im Wizemann, Quellenstraße 7, 70376 Stuttgart
URL://www.xn--untergrund-blttle-2qb.ch/events/237607/voodoo-juergens-die-ersten-drei-alben-sind-allesamt-bereits-verdiente-klassiker-im-wizemann-stuttgart.html
END:VEVENT
BEGIN:VTIMEZONE
TZID:Europe/Zurich
X-LIC-LOCATION:Europe/Zurich
BEGIN:STANDARD
DTSTART;VALUE=DATE-TIME:20260522T210000
TZNAME:CET
TZOFFSETFROM:+0200
TZOFFSETTO:+0100
END:STANDARD
BEGIN:DAYLIGHT
DTSTART;VALUE=DATE-TIME:20260522T210000
TZNAME:CEST
TZOFFSETFROM:+0100
TZOFFSETTO:+0200
END:DAYLIGHT
BEGIN:STANDARD
DTSTART;VALUE=DATE-TIME:20260522T210000
TZNAME:CET
TZOFFSETFROM:+0200
TZOFFSETTO:+0100
END:STANDARD
END:VTIMEZONE
END:VCALENDAR