BEGIN:VCALENDAR
VERSION:2.0
PRODID:-//UB-Event
TZID:Europe/Zurich
X-WR-TIMEZONE:Europe/Zurich
CALSCALE:GREGORIAN
BEGIN:VEVENT
SUMMARY:The Diaz Brothers UK-Punk – Trust Issues – Libarski
UID:237604
DTSTART;TZID=Europe/Zurich;VALUE=DATE-TIME:20260522T210000
DTEND;TZID=Europe/Zurich;VALUE=DATE-TIME:20260522T230000
LAST-MODIFIED;TZID=Europe/Zurich;VALUE=DATE-TIME:20260422T063834
DTSTAMP;VALUE=DATE-TIME:20260522T210000Z
LOCATION:Karateklub Meier, Nassauerstraße 11, 66111 Saarbrücken
URL://www.xn--untergrund-blttle-2qb.ch/events/237604/the-diaz-brothers-uk-punk-trust-issues-libarski-karateklub-meier-saarbruecken.html
END:VEVENT
BEGIN:VTIMEZONE
TZID:Europe/Zurich
X-LIC-LOCATION:Europe/Zurich
BEGIN:STANDARD
DTSTART;VALUE=DATE-TIME:20260522T210000
TZNAME:CET
TZOFFSETFROM:+0200
TZOFFSETTO:+0100
END:STANDARD
BEGIN:DAYLIGHT
DTSTART;VALUE=DATE-TIME:20260522T210000
TZNAME:CEST
TZOFFSETFROM:+0100
TZOFFSETTO:+0200
END:DAYLIGHT
BEGIN:STANDARD
DTSTART;VALUE=DATE-TIME:20260522T210000
TZNAME:CET
TZOFFSETFROM:+0200
TZOFFSETTO:+0100
END:STANDARD
END:VTIMEZONE
END:VCALENDAR