BEGIN:VCALENDAR
VERSION:2.0
PRODID:-//UB-Event
TZID:Europe/Zurich
X-WR-TIMEZONE:Europe/Zurich
CALSCALE:GREGORIAN
BEGIN:VEVENT
SUMMARY:Matthieu Chazarenc & Laurent Derache [F] »… Lyrischer und strahlender Jazz
UID:237543
DTSTART;TZID=Europe/Zurich;VALUE=DATE-TIME:20260520T210000
DTEND;TZID=Europe/Zurich;VALUE=DATE-TIME:20260520T230000
LAST-MODIFIED;TZID=Europe/Zurich;VALUE=DATE-TIME:20260422T063832
DTSTAMP;VALUE=DATE-TIME:20260520T210000Z
LOCATION:Weltecho, Annaberger Straße 24, 09111 Chemnitz
URL://www.xn--untergrund-blttle-2qb.ch/events/237543/matthieu-chazarenc-laurent-derache-f-lyrischer-und-strahlender-jazz-weltecho-chemnitz.html
END:VEVENT
BEGIN:VTIMEZONE
TZID:Europe/Zurich
X-LIC-LOCATION:Europe/Zurich
BEGIN:STANDARD
DTSTART;VALUE=DATE-TIME:20260520T210000
TZNAME:CET
TZOFFSETFROM:+0200
TZOFFSETTO:+0100
END:STANDARD
BEGIN:DAYLIGHT
DTSTART;VALUE=DATE-TIME:20260520T210000
TZNAME:CEST
TZOFFSETFROM:+0100
TZOFFSETTO:+0200
END:DAYLIGHT
BEGIN:STANDARD
DTSTART;VALUE=DATE-TIME:20260520T210000
TZNAME:CET
TZOFFSETFROM:+0200
TZOFFSETTO:+0100
END:STANDARD
END:VTIMEZONE
END:VCALENDAR