BEGIN:VCALENDAR
VERSION:2.0
PRODID:-//UB-Event
TZID:Europe/Zurich
X-WR-TIMEZONE:Europe/Zurich
CALSCALE:GREGORIAN
BEGIN:VEVENT
SUMMARY:Crystal F und Arbok 48 "Leben ist seltsam"-Tour 2026 Mit einer Mischung
UID:237515
DTSTART;TZID=Europe/Zurich;VALUE=DATE-TIME:20260426T210000
DTEND;TZID=Europe/Zurich;VALUE=DATE-TIME:20260426T230000
LAST-MODIFIED;TZID=Europe/Zurich;VALUE=DATE-TIME:20260422T063808
DTSTAMP;VALUE=DATE-TIME:20260426T210000Z
LOCATION:Faust, Leinaustraße, 30451 Hannover
URL://www.xn--untergrund-blttle-2qb.ch/events/237515/crystal-f-und-arbok-48-leben-ist-seltsam-tour-2026-mit-einer-mischung-faust-hannover.html
END:VEVENT
BEGIN:VTIMEZONE
TZID:Europe/Zurich
X-LIC-LOCATION:Europe/Zurich
BEGIN:STANDARD
DTSTART;VALUE=DATE-TIME:20260426T210000
TZNAME:CET
TZOFFSETFROM:+0200
TZOFFSETTO:+0100
END:STANDARD
BEGIN:DAYLIGHT
DTSTART;VALUE=DATE-TIME:20260426T210000
TZNAME:CEST
TZOFFSETFROM:+0100
TZOFFSETTO:+0200
END:DAYLIGHT
BEGIN:STANDARD
DTSTART;VALUE=DATE-TIME:20260426T210000
TZNAME:CET
TZOFFSETFROM:+0200
TZOFFSETTO:+0100
END:STANDARD
END:VTIMEZONE
END:VCALENDAR