BEGIN:VCALENDAR
VERSION:2.0
PRODID:-//UB-Event
TZID:Europe/Zurich
X-WR-TIMEZONE:Europe/Zurich
CALSCALE:GREGORIAN
BEGIN:VEVENT
SUMMARY:Gipsy Kings by Diego Baliardo
UID:237508
DTSTART;TZID=Europe/Zurich;VALUE=DATE-TIME:20270410T210000
DTEND;TZID=Europe/Zurich;VALUE=DATE-TIME:20270410T230000
LAST-MODIFIED;TZID=Europe/Zurich;VALUE=DATE-TIME:20260422T062623
DTSTAMP;VALUE=DATE-TIME:20270410T210000Z
LOCATION:Volkshaus, Stauffacherstrasse 60, 8004 Zürich
URL://www.xn--untergrund-blttle-2qb.ch/events/237508/gipsy-kings-by-diego-baliardo-volkshaus-zuerich.html
END:VEVENT
BEGIN:VTIMEZONE
TZID:Europe/Zurich
X-LIC-LOCATION:Europe/Zurich
BEGIN:STANDARD
DTSTART;VALUE=DATE-TIME:20270410T210000
TZNAME:CET
TZOFFSETFROM:+0200
TZOFFSETTO:+0100
END:STANDARD
BEGIN:DAYLIGHT
DTSTART;VALUE=DATE-TIME:20270410T210000
TZNAME:CEST
TZOFFSETFROM:+0100
TZOFFSETTO:+0200
END:DAYLIGHT
BEGIN:STANDARD
DTSTART;VALUE=DATE-TIME:20270410T210000
TZNAME:CET
TZOFFSETFROM:+0200
TZOFFSETTO:+0100
END:STANDARD
END:VTIMEZONE
END:VCALENDAR