BEGIN:VCALENDAR
VERSION:2.0
PRODID:-//UB-Event
TZID:Europe/Zurich
X-WR-TIMEZONE:Europe/Zurich
CALSCALE:GREGORIAN
BEGIN:VEVENT
SUMMARY:Lass uns drüber reden
UID:237505
DTSTART;TZID=Europe/Zurich;VALUE=DATE-TIME:20260424T170000
DTEND;TZID=Europe/Zurich;VALUE=DATE-TIME:20260424T190000
LAST-MODIFIED;TZID=Europe/Zurich;VALUE=DATE-TIME:20260424T055004
DTSTAMP;VALUE=DATE-TIME:20260424T170000Z
LOCATION:Theater der Gezeiten, Schmechtingstraße 40, 44809 Bochum
URL://www.xn--untergrund-blttle-2qb.ch/events/237505/lass-uns-drueber-reden-theater-der-gezeiten-bochum.html
END:VEVENT
BEGIN:VTIMEZONE
TZID:Europe/Zurich
X-LIC-LOCATION:Europe/Zurich
BEGIN:STANDARD
DTSTART;VALUE=DATE-TIME:20260424T170000
TZNAME:CET
TZOFFSETFROM:+0200
TZOFFSETTO:+0100
END:STANDARD
BEGIN:DAYLIGHT
DTSTART;VALUE=DATE-TIME:20260424T170000
TZNAME:CEST
TZOFFSETFROM:+0100
TZOFFSETTO:+0200
END:DAYLIGHT
BEGIN:STANDARD
DTSTART;VALUE=DATE-TIME:20260424T170000
TZNAME:CET
TZOFFSETFROM:+0200
TZOFFSETTO:+0100
END:STANDARD
END:VTIMEZONE
END:VCALENDAR