BEGIN:VCALENDAR
VERSION:2.0
PRODID:-//UB-Event
TZID:Europe/Zurich
X-WR-TIMEZONE:Europe/Zurich
CALSCALE:GREGORIAN
BEGIN:VEVENT
SUMMARY:Überleben im Zelt | 36.67061°N, 43.34247°E
UID:237501
DTSTART;TZID=Europe/Zurich;VALUE=DATE-TIME:20260505T100000
DTEND;TZID=Europe/Zurich;VALUE=DATE-TIME:20260505T120000
LAST-MODIFIED;TZID=Europe/Zurich;VALUE=DATE-TIME:20260422T061112
DTSTAMP;VALUE=DATE-TIME:20260505T100000Z
LOCATION:Fritz Bauer Forum, Feldmark 107, 44803 Bochum
URL://www.xn--untergrund-blttle-2qb.ch/events/237501/ueberleben-im-zelt-36-67061-n-43-34247-e-fritz-bauer-forum-bochum.html
END:VEVENT
BEGIN:VTIMEZONE
TZID:Europe/Zurich
X-LIC-LOCATION:Europe/Zurich
BEGIN:STANDARD
DTSTART;VALUE=DATE-TIME:20260505T100000
TZNAME:CET
TZOFFSETFROM:+0200
TZOFFSETTO:+0100
END:STANDARD
BEGIN:DAYLIGHT
DTSTART;VALUE=DATE-TIME:20260505T100000
TZNAME:CEST
TZOFFSETFROM:+0100
TZOFFSETTO:+0200
END:DAYLIGHT
BEGIN:STANDARD
DTSTART;VALUE=DATE-TIME:20260505T100000
TZNAME:CET
TZOFFSETFROM:+0200
TZOFFSETTO:+0100
END:STANDARD
END:VTIMEZONE
END:VCALENDAR