BEGIN:VCALENDAR
VERSION:2.0
PRODID:-//UB-Event
TZID:Europe/Zurich
X-WR-TIMEZONE:Europe/Zurich
CALSCALE:GREGORIAN
BEGIN:VEVENT
SUMMARY:Vision-boards basteln & Austausch: Wie soll unsere Zukunft aussehen
UID:237490
DTSTART;TZID=Europe/Zurich;VALUE=DATE-TIME:20260426T130000
DTEND;TZID=Europe/Zurich;VALUE=DATE-TIME:20260426T150000
LAST-MODIFIED;TZID=Europe/Zurich;VALUE=DATE-TIME:20260421T071519
DTSTAMP;VALUE=DATE-TIME:20260426T130000Z
LOCATION:Haus des Engagements, Rehlingstraße 9, 79100 Freiburg im Breisgau
URL://www.xn--untergrund-blttle-2qb.ch/events/237490/vision-boards-basteln-austausch-wie-soll-unsere-zukunft-aussehen-haus-des-engagements-freiburg-im-breisgau.html
END:VEVENT
BEGIN:VTIMEZONE
TZID:Europe/Zurich
X-LIC-LOCATION:Europe/Zurich
BEGIN:STANDARD
DTSTART;VALUE=DATE-TIME:20260426T130000
TZNAME:CET
TZOFFSETFROM:+0200
TZOFFSETTO:+0100
END:STANDARD
BEGIN:DAYLIGHT
DTSTART;VALUE=DATE-TIME:20260426T130000
TZNAME:CEST
TZOFFSETFROM:+0100
TZOFFSETTO:+0200
END:DAYLIGHT
BEGIN:STANDARD
DTSTART;VALUE=DATE-TIME:20260426T130000
TZNAME:CET
TZOFFSETFROM:+0200
TZOFFSETTO:+0100
END:STANDARD
END:VTIMEZONE
END:VCALENDAR